BEGIN:VCALENDAR
VERSION:2.0
PRODID:-// - ECPv4.9.10//NONSGML v1.0//EN
CALSCALE:GREGORIAN
METHOD:PUBLISH
X-ORIGINAL-URL:https://alaxiaentertainment.com.au
X-WR-CALDESC:Events for 
BEGIN:VTIMEZONE
TZID:UTC
BEGIN:STANDARD
TZOFFSETFROM:+0000
TZOFFSETTO:+0000
TZNAME:UTC
DTSTART:20190101T000000
END:STANDARD
END:VTIMEZONE
BEGIN:VEVENT
DTSTART;TZID=UTC:20191108T200000
DTEND;TZID=UTC:20191108T200000
DTSTAMP:20210223T042912
CREATED:20191026T081557Z
LAST-MODIFIED:20191108T084317Z
UID:3025-1573243200-1573243200@alaxiaentertainment.com.au
SUMMARY:New : SIDHU MOOSEWALA
DESCRIPTION: \n  \nA glimpse of our previous “SIDHU MOOSEWALA” event Diwali Mela 2019.\n\nhttps://alaxiaentertainment.com.au/wp-content/uploads/2019/10/project2.mp4\nhttps://alaxiaentertainment.com.au/wp-content/uploads/2019/10/sidumain.mp4\nOUR SEATING PLAN\n \n
URL:https://alaxiaentertainment.com.au/events/new-sidhu-moosewala/
LOCATION:445 toorak road\, Toorak\, 445 Toorak road\,Toorak\, Melbourne\, Victoria\, 3142\, Australia
ORGANIZER;CN="Alaxia%20Entertainment":MAILTO:info@alaxiaentertainment.com.au
END:VEVENT
END:VCALENDAR